BEGIN:VCALENDAR
VERSION:2.0
PRODID:-// - ECPv6.15.20//NONSGML v1.0//EN
CALSCALE:GREGORIAN
METHOD:PUBLISH
X-ORIGINAL-URL:https://chapelhillprayer.org
X-WR-CALDESC:Events for 
REFRESH-INTERVAL;VALUE=DURATION:PT1H
X-Robots-Tag:noindex
X-PUBLISHED-TTL:PT1H
BEGIN:VTIMEZONE
TZID:UTC
BEGIN:STANDARD
TZOFFSETFROM:+0000
TZOFFSETTO:+0000
TZNAME:UTC
DTSTART:20240101T000000
END:STANDARD
END:VTIMEZONE
BEGIN:VEVENT
DTSTART;TZID=UTC:20250618T190000
DTEND;TZID=UTC:20250618T210000
DTSTAMP:20260421T191211
CREATED:20250616T185520Z
LAST-MODIFIED:20250818T161347Z
UID:2437-1750273200-1750280400@chapelhillprayer.org
SUMMARY:Summer Healing Night!
DESCRIPTION:This summer\, the Chapel Hill Prayer Collective is offering monthly healing nights for drop-in prayer appointments for anyone needing emotional\, spiritual\, and physical healing (which is everyone\, isn’t it?).  Our first night is hosted at Riverlife Church (510 Sage Rd) on June 18th.  Drop in as your schedule allows. Stay for as long or as short as you’d like.  Invite your friends and family who need a touch of God’s love and healing. Everyone is welcome.
URL:https://chapelhillprayer.org/event/summer-healing-night-4/
LOCATION:Riverlife Fellowship Church\, 510 Sage Road\, Chapel Hill\, NC\, 27514\, United States
ATTACH;FMTTYPE=image/jpeg:https://chapelhillprayer.org/wp-content/uploads/2025/06/Healing-Night-Promo-June.jpg
END:VEVENT
END:VCALENDAR