BEGIN:VCALENDAR
VERSION:2.0
PRODID:-// - ECPv6.15.20//NONSGML v1.0//EN
CALSCALE:GREGORIAN
METHOD:PUBLISH
X-ORIGINAL-URL:https://chapelhillprayer.org
X-WR-CALDESC:Events for 
REFRESH-INTERVAL;VALUE=DURATION:PT1H
X-Robots-Tag:noindex
X-PUBLISHED-TTL:PT1H
BEGIN:VTIMEZONE
TZID:UTC
BEGIN:STANDARD
TZOFFSETFROM:+0000
TZOFFSETTO:+0000
TZNAME:UTC
DTSTART:20240101T000000
END:STANDARD
END:VTIMEZONE
BEGIN:VEVENT
DTSTART;TZID=UTC:20250402T190000
DTEND;TZID=UTC:20250402T210000
DTSTAMP:20260421T224617
CREATED:20250211T030018Z
LAST-MODIFIED:20250211T030018Z
UID:2395-1743620400-1743627600@chapelhillprayer.org
SUMMARY:God Dreams!
DESCRIPTION:The Bible is full of examples of God speaking to people through dreams.  Join us as we explore Biblical dream interpretation together in this 5-week series.  We’ll use a variety of sources and guest speakers to help us learn more about how God communicates through dreams\, and prayerfully consider what He’s saying.  As usual at our events\, we will both learn and practice together\, so start writing down your dreams!  Please complete this free registration if you plan to attend to help us create a class email list for sharing information and announcements about the class!\nhttps://forms.gle/btg8GK6izEgksvMd6
URL:https://chapelhillprayer.org/event/god-dreams-4/
LOCATION:Riverlife Fellowship Church\, 510 Sage Road\, Chapel Hill\, NC\, 27514\, United States
CATEGORIES:Training
ATTACH;FMTTYPE=image/jpeg:https://chapelhillprayer.org/wp-content/uploads/2025/02/Gemini_Generated_Image_rzzlgirzzlgirzzl-e1739242935559.jpeg
END:VEVENT
BEGIN:VEVENT
DTSTART;TZID=UTC:20250409T190000
DTEND;TZID=UTC:20250409T210000
DTSTAMP:20260421T224617
CREATED:20250211T030414Z
LAST-MODIFIED:20250211T030414Z
UID:2397-1744225200-1744232400@chapelhillprayer.org
SUMMARY:God Dreams!
DESCRIPTION:The Bible is full of examples of God speaking to people through dreams.  Join us as we explore Biblical dream interpretation together in this 5-week series.  We’ll use a variety of sources and guest speakers to help us learn more about how God communicates through dreams\, and prayerfully consider what He’s saying.  As usual at our events\, we will both learn and practice together\, so start writing down your dreams! \nPlease complete this free registration if you plan to attend to help us create a class email list for sharing information and announcements about the class!\nhttps://forms.gle/btg8GK6izEgksvMd6
URL:https://chapelhillprayer.org/event/god-dreams-5/
LOCATION:Riverlife Fellowship Church\, 510 Sage Road\, Chapel Hill\, NC\, 27514\, United States
CATEGORIES:Training
ATTACH;FMTTYPE=image/jpeg:https://chapelhillprayer.org/wp-content/uploads/2025/02/Gemini_Generated_Image_rzzlgirzzlgirzzl-e1739242935559.jpeg
END:VEVENT
END:VCALENDAR