BEGIN:VCALENDAR
VERSION:2.0
PRODID:-// - ECPv6.15.20//NONSGML v1.0//EN
CALSCALE:GREGORIAN
METHOD:PUBLISH
X-ORIGINAL-URL:https://chapelhillprayer.org
X-WR-CALDESC:Events for 
REFRESH-INTERVAL;VALUE=DURATION:PT1H
X-Robots-Tag:noindex
X-PUBLISHED-TTL:PT1H
BEGIN:VTIMEZONE
TZID:UTC
BEGIN:STANDARD
TZOFFSETFROM:+0000
TZOFFSETTO:+0000
TZNAME:UTC
DTSTART:20230101T000000
END:STANDARD
END:VTIMEZONE
BEGIN:VEVENT
DTSTART;TZID=UTC:20241009T190000
DTEND;TZID=UTC:20241009T210000
DTSTAMP:20260422T084955
CREATED:20241030T175827Z
LAST-MODIFIED:20241119T222246Z
UID:1948-1728500400-1728507600@chapelhillprayer.org
SUMMARY:Activating and Practicing Your Prophetic Voice
DESCRIPTION:“And afterward\, I will pour out my Spirit on all people.  You sons and daughters will prophesy\, your old men will dream dreams\, your young men will see visions”  (Joel 2:28 and Acts 2:17)\n\n\nWe can all prophesy to build up one another and the church!  Come and join us in October for 4 weeks of activating and growing in prophetic ministry gifts.  We will learn how to receive God’s word for ourselves and others.  Join us for fun opportunities to practice in a safe and loving community.  You will be surprised and encouraged by how well you hear His voice!\n\n\nThis free course is provided by the Chapel Hill Prayer Collective (CHPC) and is open to the whole community – so bring your friends!  We are grateful to Riverlife Fellowship Church\, which has generously offered its space during these evenings.\n\nWhether you have never tried to prophesy\, or have been practicing for years\, this fun course with lots of participation has something for you!
URL:https://chapelhillprayer.org/event/activating-and-practicing-your-prophetic-voice/
LOCATION:Riverlife Fellowship Church\, 510 Sage Road\, Chapel Hill\, NC\, 27514\, United States
CATEGORIES:Training
ATTACH;FMTTYPE=image/jpeg:https://chapelhillprayer.org/wp-content/uploads/2024/11/freepik__prophetic-training-class-in-a-welllit-room__87078.jpeg
END:VEVENT
BEGIN:VEVENT
DTSTART;TZID=UTC:20241016T190000
DTEND;TZID=UTC:20241016T210000
DTSTAMP:20260422T084955
CREATED:20241119T220733Z
LAST-MODIFIED:20241119T222200Z
UID:2252-1729105200-1729112400@chapelhillprayer.org
SUMMARY:Activating and Practicing Your Prophetic Voice
DESCRIPTION:“And afterward\, I will pour out my Spirit on all people. Your sons and daughters will prophesy\, your old men will dream dreams\, your young men will see visions”  \n(Joel 2:28 and Acts 2:17)\n\n\nWe can all prophesy to build up one another and the church!  Come and join us in October for 4 weeks of activating and growing in prophetic ministry gifts.  We will learn how to receive God’s word for ourselves and others.  Join us for fun opportunities to practice in a safe and loving community.  You will be surprised and encouraged by how well you hear His voice!  Whether you have never tried to prophesy\, or have been practicing for years\, this fun course with lots of participation has something for you!\n\n\nRegistration is free\, but we do ask you to please signup if you can join us.\n\nFor more information contact info@chapelhillprayer.org
URL:https://chapelhillprayer.org/event/activating-and-practicing-your-prophetic-voice-4/
LOCATION:Riverlife Fellowship Church\, 510 Sage Road\, Chapel Hill\, NC\, 27514\, United States
CATEGORIES:Training
ATTACH;FMTTYPE=image/jpeg:https://chapelhillprayer.org/wp-content/uploads/2024/11/freepik__prophetic-training-class-in-a-welllit-room__87078.jpeg
END:VEVENT
BEGIN:VEVENT
DTSTART;TZID=UTC:20241023T190000
DTEND;TZID=UTC:20241023T210000
DTSTAMP:20260422T084955
CREATED:20241119T221154Z
LAST-MODIFIED:20241119T222321Z
UID:2254-1729710000-1729717200@chapelhillprayer.org
SUMMARY:Activating and Practicing Your Prophetic Voice
DESCRIPTION:“And afterward\, I will pour out my Spirit on all people. Your sons and daughters will prophesy\, your old men will dream dreams\, your young men will see visions”  \n(Joel 2:28 and Acts 2:17)\n\n\nWe can all prophesy to build up one another and the church!  Come and join us in October for 4 weeks of activating and growing in prophetic ministry gifts.  We will learn how to receive God’s word for ourselves and others.  Join us for fun opportunities to practice in a safe and loving community.  You will be surprised and encouraged by how well you hear His voice!  Whether you have never tried to prophesy\, or have been practicing for years\, this fun course with lots of participation has something for you!\n\n\nRegistration is free\, but we do ask you to please signup if you can join us.\n\nFor more information contact info@chapelhillprayer.org
URL:https://chapelhillprayer.org/event/activating-and-practicing-your-prophetic-voice-5/
LOCATION:Riverlife Fellowship Church\, 510 Sage Road\, Chapel Hill\, NC\, 27514\, United States
CATEGORIES:Training
ATTACH;FMTTYPE=image/jpeg:https://chapelhillprayer.org/wp-content/uploads/2024/11/freepik__prophetic-training-class-in-a-welllit-room__87078.jpeg
END:VEVENT
BEGIN:VEVENT
DTSTART;TZID=UTC:20241030T190000
DTEND;TZID=UTC:20241030T210000
DTSTAMP:20260422T084955
CREATED:20241030T181335Z
LAST-MODIFIED:20241119T222424Z
UID:1952-1730314800-1730322000@chapelhillprayer.org
SUMMARY:Activating and Practicing Your Prophetic Voice
DESCRIPTION:“And afterward\, I will pour out my Spirit on all people.  You sons and daughters will prophesy\, your old men will dream dreams\, your young men will see visions”  (Joel 2:28 and Acts 2:17)\n\n\nWe can all prophesy to build up one another and the church!  Come and join us in October for 4 weeks of activating and growing in prophetic ministry gifts.  We will learn how to receive God’s word for ourselves and others.  Join us for fun opportunities to practice in a safe and loving community.  You will be surprised and encouraged by how well you hear His voice!\n\n\nThis free course is provided by the Chapel Hill Prayer Collective (CHPC) and is open to the whole community – so bring your friends!  We are grateful to Riverlife Fellowship Church\, which has generously offered its space during these evenings.\n\nWhether you have never tried to prophesy\, or have been practicing for years\, this fun course with lots of participation has something for you!
URL:https://chapelhillprayer.org/event/activating-and-practicing-your-prophetic-voice-2/
LOCATION:Riverlife Fellowship Church\, 510 Sage Road\, Chapel Hill\, NC\, 27514\, United States
CATEGORIES:Training
ATTACH;FMTTYPE=image/jpeg:https://chapelhillprayer.org/wp-content/uploads/2024/11/freepik__prophetic-training-class-in-a-welllit-room__87078.jpeg
END:VEVENT
END:VCALENDAR