BEGIN:VCALENDAR
VERSION:2.0
PRODID:-// - ECPv6.15.20//NONSGML v1.0//EN
CALSCALE:GREGORIAN
METHOD:PUBLISH
X-ORIGINAL-URL:https://chapelhillprayer.org
X-WR-CALDESC:Events for 
REFRESH-INTERVAL;VALUE=DURATION:PT1H
X-Robots-Tag:noindex
X-PUBLISHED-TTL:PT1H
BEGIN:VTIMEZONE
TZID:UTC
BEGIN:STANDARD
TZOFFSETFROM:+0000
TZOFFSETTO:+0000
TZNAME:UTC
DTSTART:20230101T000000
END:STANDARD
END:VTIMEZONE
BEGIN:VEVENT
DTSTART;TZID=UTC:20240919T180000
DTEND;TZID=UTC:20240919T200000
DTSTAMP:20260422T100559
CREATED:20240722T023857Z
LAST-MODIFIED:20241119T213919Z
UID:1334-1726768800-1726776000@chapelhillprayer.org
SUMMARY:Team Celebration Dinner
DESCRIPTION:If you have been participating with the Prayer Collective in any way the past couple of years –as part of our classes or fellowship nights or as volunteers with the healing nights or prayer appointments–let’s gather to celebrate what God has done!
URL:https://chapelhillprayer.org/event/community-prayer-gathering/
ATTACH;FMTTYPE=image/jpeg:https://chapelhillprayer.org/wp-content/uploads/2024/07/freepik__team-dinner-of-a-diverse-group-of-people-show-food__87077.jpeg
END:VEVENT
END:VCALENDAR