BEGIN:VCALENDAR
VERSION:2.0
PRODID:-// - ECPv6.15.20//NONSGML v1.0//EN
CALSCALE:GREGORIAN
METHOD:PUBLISH
X-ORIGINAL-URL:https://chapelhillprayer.org
X-WR-CALDESC:Events for 
REFRESH-INTERVAL;VALUE=DURATION:PT1H
X-Robots-Tag:noindex
X-PUBLISHED-TTL:PT1H
BEGIN:VTIMEZONE
TZID:America/New_York
BEGIN:DAYLIGHT
TZOFFSETFROM:-0500
TZOFFSETTO:-0400
TZNAME:EDT
DTSTART:20240310T070000
END:DAYLIGHT
BEGIN:STANDARD
TZOFFSETFROM:-0400
TZOFFSETTO:-0500
TZNAME:EST
DTSTART:20241103T060000
END:STANDARD
BEGIN:DAYLIGHT
TZOFFSETFROM:-0500
TZOFFSETTO:-0400
TZNAME:EDT
DTSTART:20250309T070000
END:DAYLIGHT
BEGIN:STANDARD
TZOFFSETFROM:-0400
TZOFFSETTO:-0500
TZNAME:EST
DTSTART:20251102T060000
END:STANDARD
BEGIN:DAYLIGHT
TZOFFSETFROM:-0500
TZOFFSETTO:-0400
TZNAME:EDT
DTSTART:20260308T070000
END:DAYLIGHT
BEGIN:STANDARD
TZOFFSETFROM:-0400
TZOFFSETTO:-0500
TZNAME:EST
DTSTART:20261101T060000
END:STANDARD
BEGIN:DAYLIGHT
TZOFFSETFROM:-0500
TZOFFSETTO:-0400
TZNAME:EDT
DTSTART:20270314T070000
END:DAYLIGHT
BEGIN:STANDARD
TZOFFSETFROM:-0400
TZOFFSETTO:-0500
TZNAME:EST
DTSTART:20271107T060000
END:STANDARD
END:VTIMEZONE
BEGIN:VTIMEZONE
TZID:America/Halifax
BEGIN:DAYLIGHT
TZOFFSETFROM:-0400
TZOFFSETTO:-0300
TZNAME:ADT
DTSTART:20230312T060000
END:DAYLIGHT
BEGIN:STANDARD
TZOFFSETFROM:-0300
TZOFFSETTO:-0400
TZNAME:AST
DTSTART:20231105T050000
END:STANDARD
BEGIN:DAYLIGHT
TZOFFSETFROM:-0400
TZOFFSETTO:-0300
TZNAME:ADT
DTSTART:20240310T060000
END:DAYLIGHT
BEGIN:STANDARD
TZOFFSETFROM:-0300
TZOFFSETTO:-0400
TZNAME:AST
DTSTART:20241103T050000
END:STANDARD
BEGIN:DAYLIGHT
TZOFFSETFROM:-0400
TZOFFSETTO:-0300
TZNAME:ADT
DTSTART:20250309T060000
END:DAYLIGHT
BEGIN:STANDARD
TZOFFSETFROM:-0300
TZOFFSETTO:-0400
TZNAME:AST
DTSTART:20251102T050000
END:STANDARD
END:VTIMEZONE
BEGIN:VTIMEZONE
TZID:UTC
BEGIN:STANDARD
TZOFFSETFROM:+0000
TZOFFSETTO:+0000
TZNAME:UTC
DTSTART:20230101T000000
END:STANDARD
END:VTIMEZONE
BEGIN:VEVENT
DTSTART;TZID=America/New_York:20260228T100000
DTEND;TZID=America/New_York:20260228T143000
DTSTAMP:20260419T184137
CREATED:20260220T024451Z
LAST-MODIFIED:20260220T024451Z
UID:2510-1772272800-1772289000@chapelhillprayer.org
SUMMARY:February Prayer Appointments
DESCRIPTION:Come receive God’s healing and peace about ANYTHING that troubles you.  Jesus cares about whatever you are concerned about\, because He loves you!  Mental\, physical\, relational\, or spiritual needs — Jesus has the solution! \n\nIf you or a friend needs personal prayer in an unhurried 60-90-minute appointment.   We will have prayer teams available at two different appointment times: 10 am\, and 1 pm.  We are expectant for what God will do! \n\nFor more information or to sign up for an appointment\, contact prayer@chapelhillprayer.org.  Appointments will be booked in the order they are received.
URL:https://chapelhillprayer.org/event/february-prayer-appointments/
CATEGORIES:Community Prayer Gathering
ATTACH;FMTTYPE=image/jpeg:https://chapelhillprayer.org/wp-content/uploads/2024/07/stock-photo-christian-small-group-praying-together-wooden-table-blurred-open-bible.jpeg
END:VEVENT
BEGIN:VEVENT
DTSTART;TZID=America/New_York:20260122T190000
DTEND;TZID=America/New_York:20260122T210000
DTSTAMP:20260419T184137
CREATED:20260119T211542Z
LAST-MODIFIED:20260119T211542Z
UID:2494-1769108400-1769115600@chapelhillprayer.org
SUMMARY:Evening of Personal Prayer Ministry
DESCRIPTION:Come receive God’s healing and peace about ANYTHING that troubles you.  Jesus cares about whatever you are concerned about\, because He loves you!  Mental\, physical\, relational\, or spiritual needs — Jesus has the solution!  He’s so much more powerful than your New Year’s resolution! \n\nIf you or a friend needs personal prayer in an unhurried 50-minute appointment.   We will have two different appointment times to receive prayer: 7-8 pm\, and 8-9 pm.  We are expectant for what God will do! \n\nFor more information or to sign up for an appointment\, contact prayer@chapelhillprayer.org.  Appointments will be booked in the order they are received.   [UPDATE 1/19/26 — all spots are currently taken for this January prayer night.  Feel free to email to be placed on a priority waiting list for a future event.}
URL:https://chapelhillprayer.org/event/evening-of-personal-prayer-ministry/
CATEGORIES:Community Prayer Gathering
ATTACH;FMTTYPE=image/jpeg:https://chapelhillprayer.org/wp-content/uploads/2024/06/istockphoto-467439059-612x612-1.jpg
END:VEVENT
BEGIN:VEVENT
DTSTART;TZID=America/New_York:20250820T190000
DTEND;TZID=America/New_York:20250820T210000
DTSTAMP:20260419T184138
CREATED:20250818T161108Z
LAST-MODIFIED:20251203T012556Z
UID:2444-1755716400-1755723600@chapelhillprayer.org
SUMMARY:Summer Healing Night!
DESCRIPTION:This summer\, the Chapel Hill Prayer Collective is offering monthly healing nights for drop-in prayer appointments for anyone needing emotional\, spiritual\, and physical healing (which is everyone\, isn’t it?).  Our last night regularly scheduled event is hosted at Riverlife Church (510 Sage Rd) on Aug 20th.  Drop in as your schedule allows. Stay for as long or as short as you’d like.  Invite your friends and family who need a touch of God’s love and healing. Everyone is welcome.
URL:https://chapelhillprayer.org/event/summer-healing-night-5/
LOCATION:Riverlife Fellowship Church\, 510 Sage Road\, Chapel Hill\, NC\, 27514\, United States
CATEGORIES:Community Prayer Gathering
ATTACH;FMTTYPE=image/jpeg:https://chapelhillprayer.org/wp-content/uploads/2025/08/Healing-Night-Aug.jpg
END:VEVENT
BEGIN:VEVENT
DTSTART;TZID=America/Halifax:20240814T190000
DTEND;TZID=America/Halifax:20240814T210000
DTSTAMP:20260419T184138
CREATED:20240724T215502Z
LAST-MODIFIED:20241119T212648Z
UID:1429-1723662000-1723669200@chapelhillprayer.org
SUMMARY:Summer Healing Night
DESCRIPTION:“Are you weary\, carrying a heavy burden? Come to me. I will refresh your life\, for I am your oasis. Simply join your life with mine.” (Matthew 11:27-30\, The Passion Translation) \nEvery month this summer\, the Chapel Hill Prayer Collective is partnering with Riverlife Church to offer everyone an opportunity to receive God’s healing and encouragement during an evening of soaking prayer and individual prayer sessions. All are welcome to come and receive!  Come as you are and tell a friend!
URL:https://chapelhillprayer.org/event/august-community-prayer-gathering/
LOCATION:Riverlife Fellowship Church\, 510 Sage Road\, Chapel Hill\, NC\, 27514\, United States
CATEGORIES:Community Prayer Gathering
ATTACH;FMTTYPE=image/jpeg:https://chapelhillprayer.org/wp-content/uploads/2024/06/3.jpg
END:VEVENT
BEGIN:VEVENT
DTSTART;TZID=UTC:20240612T190000
DTEND;TZID=UTC:20240612T210000
DTSTAMP:20260419T184138
CREATED:20241119T214909Z
LAST-MODIFIED:20241119T214909Z
UID:2248-1718218800-1718226000@chapelhillprayer.org
SUMMARY:Summer Healing Night
DESCRIPTION:“Are you weary\, carrying a heavy burden? Come to me. I will refresh your life\, for I am your oasis. Simply join your life with mine.” (Matthew 11:27-30\, The Passion Translation) \nEvery month this summer\, the Chapel Hill Prayer Collective is partnering with Riverlife Church to offer everyone an opportunity to receive God’s healing and encouragement during an evening of soaking prayer and individual prayer sessions. All are welcome to come and receive!  Come as you are and tell a friend!
URL:https://chapelhillprayer.org/event/summer-healing-night-2/
LOCATION:Riverlife Fellowship Church\, 510 Sage Road\, Chapel Hill\, NC\, 27514\, United States
CATEGORIES:Community Prayer Gathering
ATTACH;FMTTYPE=image/jpeg:https://chapelhillprayer.org/wp-content/uploads/2024/06/Gathering-CHPC.jpg
END:VEVENT
BEGIN:VEVENT
DTSTART;TZID=UTC:20240515T190000
DTEND;TZID=UTC:20240515T210000
DTSTAMP:20260419T184138
CREATED:20241119T214340Z
LAST-MODIFIED:20241119T214359Z
UID:2245-1715799600-1715806800@chapelhillprayer.org
SUMMARY:Summer Healing Night
DESCRIPTION:“Are you weary\, carrying a heavy burden? Come to me. I will refresh your life\, for I am your oasis. Simply join your life with mine.” (Matthew 11:27-30\, The Passion Translation) \nEvery month this summer\, the Chapel Hill Prayer Collective is partnering with Riverlife Church to offer everyone an opportunity to receive God’s healing and encouragement during an evening of soaking prayer and individual prayer sessions. All are welcome to come and receive!  Come as you are and tell a friend!
URL:https://chapelhillprayer.org/event/summer-healing-night/
LOCATION:Riverlife Fellowship Church\, 510 Sage Road\, Chapel Hill\, NC\, 27514\, United States
CATEGORIES:Community Prayer Gathering
ATTACH;FMTTYPE=image/jpeg:https://chapelhillprayer.org/wp-content/uploads/2024/06/Gathering-CHPC.jpg
END:VEVENT
END:VCALENDAR