BEGIN:VCALENDAR
VERSION:2.0
PRODID:-// - ECPv6.15.20//NONSGML v1.0//EN
CALSCALE:GREGORIAN
METHOD:PUBLISH
X-ORIGINAL-URL:https://chapelhillprayer.org
X-WR-CALDESC:Events for 
REFRESH-INTERVAL;VALUE=DURATION:PT1H
X-Robots-Tag:noindex
X-PUBLISHED-TTL:PT1H
BEGIN:VTIMEZONE
TZID:UTC
BEGIN:STANDARD
TZOFFSETFROM:+0000
TZOFFSETTO:+0000
TZNAME:UTC
DTSTART:20230101T000000
END:STANDARD
END:VTIMEZONE
BEGIN:VTIMEZONE
TZID:America/New_York
BEGIN:DAYLIGHT
TZOFFSETFROM:-0500
TZOFFSETTO:-0400
TZNAME:EDT
DTSTART:20240310T070000
END:DAYLIGHT
BEGIN:STANDARD
TZOFFSETFROM:-0400
TZOFFSETTO:-0500
TZNAME:EST
DTSTART:20241103T060000
END:STANDARD
BEGIN:DAYLIGHT
TZOFFSETFROM:-0500
TZOFFSETTO:-0400
TZNAME:EDT
DTSTART:20250309T070000
END:DAYLIGHT
BEGIN:STANDARD
TZOFFSETFROM:-0400
TZOFFSETTO:-0500
TZNAME:EST
DTSTART:20251102T060000
END:STANDARD
BEGIN:DAYLIGHT
TZOFFSETFROM:-0500
TZOFFSETTO:-0400
TZNAME:EDT
DTSTART:20260308T070000
END:DAYLIGHT
BEGIN:STANDARD
TZOFFSETFROM:-0400
TZOFFSETTO:-0500
TZNAME:EST
DTSTART:20261101T060000
END:STANDARD
END:VTIMEZONE
BEGIN:VEVENT
DTSTART;TZID=UTC:20260108T190000
DTEND;TZID=UTC:20260108T210000
DTSTAMP:20260419T163929
CREATED:20260119T203917Z
LAST-MODIFIED:20260119T203917Z
UID:2479-1767898800-1767906000@chapelhillprayer.org
SUMMARY:January Fellowship Night
DESCRIPTION:Join us as we fellowship together and press into the HOPE the Lord has for us in 2026. \nMay the God of hope fill you with all joy and peace as you trust in him\, so that you may overflow with hope by the power of the Holy Spirit. (Romans 15:13)
URL:https://chapelhillprayer.org/event/january-fellowship-night/
LOCATION:Milk & Honey House\, 3306 Old Chapel Hill Rd\, Durham\, NC\, United States
CATEGORIES:Fellowship Night
ATTACH;FMTTYPE=image/jpeg:https://chapelhillprayer.org/wp-content/uploads/2024/06/People-Praying.jpg
END:VEVENT
BEGIN:VEVENT
DTSTART;TZID=America/New_York:20251204T190000
DTEND;TZID=America/New_York:20251204T210000
DTSTAMP:20260419T163929
CREATED:20251203T012148Z
LAST-MODIFIED:20251203T012309Z
UID:2474-1764874800-1764882000@chapelhillprayer.org
SUMMARY:December Fellowship Night
DESCRIPTION:Join us as we gather to pray for one another and press in to listen to what God wants to reveal to us about the coming year!
URL:https://chapelhillprayer.org/event/december-fellowship-night/
LOCATION:Milk & Honey House\, 3306 Old Chapel Hill Rd\, Durham\, NC\, United States
CATEGORIES:Fellowship Night
ATTACH;FMTTYPE=image/jpeg:https://chapelhillprayer.org/wp-content/uploads/2024/07/lay-hands.jpg
END:VEVENT
BEGIN:VEVENT
DTSTART;TZID=America/New_York:20251106T190000
DTEND;TZID=America/New_York:20251106T210000
DTSTAMP:20260419T163929
CREATED:20251203T011548Z
LAST-MODIFIED:20251203T012414Z
UID:2470-1762455600-1762462800@chapelhillprayer.org
SUMMARY:November Fellowship Night
DESCRIPTION:And let us consider how we may spur one another on toward love and good deeds\, not giving up meeting together\, as some are in the habit of doing\, but encouraging one another—and all the more as you see the Day approaching. (Hebrews 10:24-25)\n\n\nIt is GOOD for us to be together!  Please join us as we fellowship\, learn\, and encourage one another as we follow Jesus.
URL:https://chapelhillprayer.org/event/november-fellowship-night/
LOCATION:Milk & Honey House\, 3306 Old Chapel Hill Rd\, Durham\, NC\, United States
CATEGORIES:Fellowship Night
ATTACH;FMTTYPE=image/jpeg:https://chapelhillprayer.org/wp-content/uploads/2024/07/freepik__team-dinner-of-a-diverse-group-of-people-show-food__87077.jpeg
END:VEVENT
BEGIN:VEVENT
DTSTART;TZID=America/New_York:20251002T190000
DTEND;TZID=America/New_York:20251002T210000
DTSTAMP:20260419T163929
CREATED:20251203T010945Z
LAST-MODIFIED:20251203T012504Z
UID:2465-1759431600-1759438800@chapelhillprayer.org
SUMMARY:October Fellowship Night
DESCRIPTION:And let us consider how we may spur one another on toward love and good deeds\, not giving up meeting together\, as some are in the habit of doing\, but encouraging one another—and all the more as you see the Day approaching. (Hebrews 10:24-25) \nJoin us for a night of fellowship together.  Prayer\, testimony\, encouragement in the Lord!  It is GOOD for us to be together!
URL:https://chapelhillprayer.org/event/october-fellowship-night/
LOCATION:Milk & Honey House\, 3306 Old Chapel Hill Rd\, Durham\, NC\, United States
CATEGORIES:Fellowship Night
ATTACH;FMTTYPE=image/jpeg:https://chapelhillprayer.org/wp-content/uploads/2024/06/People-Praying.jpg
END:VEVENT
BEGIN:VEVENT
DTSTART;TZID=UTC:20250226T190000
DTEND;TZID=UTC:20250226T210000
DTSTAMP:20260419T163929
CREATED:20250211T022237Z
LAST-MODIFIED:20250220T174947Z
UID:2382-1740596400-1740603600@chapelhillprayer.org
SUMMARY:February Fellowship Night
DESCRIPTION:Join us for a night of fellowship\, reflection\, and prayer. We’ll share a short lesson on dealing with disappointment — in ourselves\, God\, or others — then press in with Holy Spirit in prayer together. These nights are always encouraging and frequently powerful!
URL:https://chapelhillprayer.org/event/february-fellowship-night/
LOCATION:Riverlife Fellowship Church\, 510 Sage Road\, Chapel Hill\, NC\, 27514\, United States
CATEGORIES:Fellowship Night
ATTACH;FMTTYPE=image/jpeg:https://chapelhillprayer.org/wp-content/uploads/2024/06/People-Praying.jpg
END:VEVENT
BEGIN:VEVENT
DTSTART;TZID=UTC:20241211T190000
DTEND;TZID=UTC:20241211T210000
DTSTAMP:20260419T163929
CREATED:20241203T171506Z
LAST-MODIFIED:20241203T171622Z
UID:2368-1733943600-1733950800@chapelhillprayer.org
SUMMARY:Fellowship Night
DESCRIPTION:We are so grateful to God whenever we think of you all and your hunger for Christ’s love to heal and bless the world around us! Christ in you is such a bright light to the world! Thank you for sharing in the mission of the Chapel Hill Prayer Collective to seed and grow a generous faith-filled heart for wholeness in Christ by the power of the Spirit.  From winter classes on spiritual warfare\, summer healing nights\, and the joy of growing in the prophetic this fall — we have been maturing together in 2024!\n \nPlease join us Wednesday\, December 11th\, 7-9 pm\nfor a December evening to reflect on the Advent season and listen together for the Lord’s heart for 2025. \n \nWe invite you to bring along a holiday treat to share. We will supply drinks.\n\nPlease RSVP to this email so we can determine the right space to gather. We will share the address of our meeting place with those who RSVP closer to the date.\n\nRSVP by emailing info@chapelhillprayer.org with the subject: December Fellowship Night
URL:https://chapelhillprayer.org/event/fellowship-night/
LOCATION:NC
CATEGORIES:Fellowship Night
ATTACH;FMTTYPE=image/jpeg:https://chapelhillprayer.org/wp-content/uploads/2024/12/freepik__advent-celebration-party-the-focuses-on-the-christ__74152.jpeg
END:VEVENT
END:VCALENDAR